BEGIN:VCALENDAR
VERSION:2.0
PRODID:-//Edlio Inc//Edlio Calendar//EN
CALSCALE:GREGORIAN
METHOD:PUBLISH
X-WR-CALNAME:Synergy Charter Academy - Events
X-ORIGINAL-URL:https://www.synergycharteracademy.org
X-WR-CALDESC:Events calendar for www.synergycharteracademy.org
X-WR-TIMEZONE:US/Pacific
REFRESH-INTERVAL;VALUE=DURATION:PT1H
X-Robots-Tag:noindex
X-PUBLISHED-TTL:PT1H
BEGIN:VTIMEZONE
TZID:US/Pacific
BEGIN:STANDARD
TZOFFSETFROM:-0700
TZOFFSETTO:-0800
DTSTART:20071104T020000
RRULE:FREQ=YEARLY;BYMONTH=11;BYDAY=1SU
END:STANDARD
BEGIN:DAYLIGHT
TZOFFSETFROM:-0800
TZOFFSETTO:-0700
DTSTART:20070311T020000
RRULE:FREQ=YEARLY;BYMONTH=3;BYDAY=2SU
END:DAYLIGHT
END:VTIMEZONE
BEGIN:VTIMEZONE
TZID:US/East-Indiana
BEGIN:STANDARD
TZOFFSETFROM:-0500
TZOFFSETTO:-0500
DTSTART:19701025T020000
END:STANDARD
END:VTIMEZONE
BEGIN:VTIMEZONE
TZID:US/Eastern
BEGIN:STANDARD
TZOFFSETFROM:-0400
TZOFFSETTO:-0500
DTSTART:19701025T020000
RRULE:FREQ=YEARLY;BYMONTH=10;BYDAY=-1SU;UNTIL=20070311T020000
END:STANDARD
BEGIN:STANDARD
TZOFFSETFROM:-0400
TZOFFSETTO:-0500
DTSTART:20071104T020000
RRULE:FREQ=YEARLY;BYMONTH=11;BYDAY=1SU
END:STANDARD
BEGIN:DAYLIGHT
TZOFFSETFROM:-0500
TZOFFSETTO:-0400
DTSTART:19870405T020000
RRULE:FREQ=YEARLY;BYMONTH=4;BYDAY=1SU;UNTIL=20061029T020000
END:DAYLIGHT
BEGIN:DAYLIGHT
TZOFFSETFROM:-0500
TZOFFSETTO:-0400
DTSTART:20070311T020000
RRULE:FREQ=YEARLY;BYMONTH=3;BYDAY=2SU
END:DAYLIGHT
END:VTIMEZONE
BEGIN:VTIMEZONE
TZID:US/Michigan
BEGIN:STANDARD
TZOFFSETFROM:-0400
TZOFFSETTO:-0500
DTSTART:19701025T020000
RRULE:FREQ=YEARLY;BYMONTH=10;BYDAY=-1SU;UNTIL=20070311T020000
END:STANDARD
BEGIN:STANDARD
TZOFFSETFROM:-0400
TZOFFSETTO:-0500
DTSTART:20071104T020000
RRULE:FREQ=YEARLY;BYMONTH=11;BYDAY=1SU
END:STANDARD
BEGIN:DAYLIGHT
TZOFFSETFROM:-0500
TZOFFSETTO:-0400
DTSTART:19870405T020000
RRULE:FREQ=YEARLY;BYMONTH=4;BYDAY=1SU;UNTIL=20061029T020000
END:DAYLIGHT
BEGIN:DAYLIGHT
TZOFFSETFROM:-0500
TZOFFSETTO:-0400
DTSTART:20070311T020000
RRULE:FREQ=YEARLY;BYMONTH=3;BYDAY=2SU
END:DAYLIGHT
END:VTIMEZONE
BEGIN:VTIMEZONE
TZID:US/Central
BEGIN:STANDARD
TZOFFSETFROM:-0500
TZOFFSETTO:-0600
DTSTART:19701025T020000
RRULE:FREQ=YEARLY;BYMONTH=10;BYDAY=-1SU;UNTIL=20070311T020000
END:STANDARD
BEGIN:STANDARD
TZOFFSETFROM:-0500
TZOFFSETTO:-0600
DTSTART:20071104T020000
RRULE:FREQ=YEARLY;BYMONTH=11;BYDAY=1SU
END:STANDARD
BEGIN:DAYLIGHT
TZOFFSETFROM:-0600
TZOFFSETTO:-0500
DTSTART:19870405T020000
RRULE:FREQ=YEARLY;BYMONTH=4;BYDAY=1SU;UNTIL=20061029T020000
END:DAYLIGHT
BEGIN:DAYLIGHT
TZOFFSETFROM:-0600
TZOFFSETTO:-0500
DTSTART:20070311T020000
RRULE:FREQ=YEARLY;BYMONTH=3;BYDAY=2SU
END:DAYLIGHT
END:VTIMEZONE
BEGIN:VTIMEZONE
TZID:US/Mountain
BEGIN:STANDARD
TZOFFSETFROM:-0600
TZOFFSETTO:-0700
DTSTART:19701025T020000
RRULE:FREQ=YEARLY;BYMONTH=10;BYDAY=-1SU;UNTIL=20070311T020000
END:STANDARD
BEGIN:STANDARD
TZOFFSETFROM:-0600
TZOFFSETTO:-0700
DTSTART:20071104T020000
RRULE:FREQ=YEARLY;BYMONTH=11;BYDAY=1SU
END:STANDARD
BEGIN:DAYLIGHT
TZOFFSETFROM:-0700
TZOFFSETTO:-0600
DTSTART:19870405T020000
RRULE:FREQ=YEARLY;BYMONTH=4;BYDAY=1SU;UNTIL=20061029T020000
END:DAYLIGHT
BEGIN:DAYLIGHT
TZOFFSETFROM:-0700
TZOFFSETTO:-0600
DTSTART:20070311T020000
RRULE:FREQ=YEARLY;BYMONTH=3;BYDAY=2SU
END:DAYLIGHT
END:VTIMEZONE
BEGIN:VTIMEZONE
TZID:US/Arizona
BEGIN:STANDARD
TZOFFSETFROM:-0700
TZOFFSETTO:-0700
DTSTART:19701025T020000
END:STANDARD
END:VTIMEZONE
BEGIN:VTIMEZONE
TZID:US/Pacific
BEGIN:STANDARD
TZOFFSETFROM:-0700
TZOFFSETTO:-0800
DTSTART:19701025T020000
RRULE:FREQ=YEARLY;BYMONTH=10;BYDAY=-1SU;UNTIL=20070311T020000
END:STANDARD
BEGIN:STANDARD
TZOFFSETFROM:-0700
TZOFFSETTO:-0800
DTSTART:20071104T020000
RRULE:FREQ=YEARLY;BYMONTH=11;BYDAY=1SU
END:STANDARD
BEGIN:DAYLIGHT
TZOFFSETFROM:-0800
TZOFFSETTO:-0700
DTSTART:19870405T020000
RRULE:FREQ=YEARLY;BYMONTH=4;BYDAY=1SU;UNTIL=20061029T020000
END:DAYLIGHT
BEGIN:DAYLIGHT
TZOFFSETFROM:-0800
TZOFFSETTO:-0700
DTSTART:20070311T020000
RRULE:FREQ=YEARLY;BYMONTH=3;BYDAY=2SU
END:DAYLIGHT
END:VTIMEZONE
BEGIN:VTIMEZONE
TZID:US/Alaska
BEGIN:STANDARD
TZOFFSETFROM:-0800
TZOFFSETTO:-0900
DTSTART:19701025T020000
RRULE:FREQ=YEARLY;BYMONTH=10;BYDAY=-1SU;UNTIL=20070311T020000
END:STANDARD
BEGIN:STANDARD
TZOFFSETFROM:-0800
TZOFFSETTO:-0900
DTSTART:20071104T020000
RRULE:FREQ=YEARLY;BYMONTH=11;BYDAY=1SU
END:STANDARD
BEGIN:DAYLIGHT
TZOFFSETFROM:-0900
TZOFFSETTO:-0800
DTSTART:19870405T020000
RRULE:FREQ=YEARLY;BYMONTH=4;BYDAY=1SU;UNTIL=20061029T020000
END:DAYLIGHT
BEGIN:DAYLIGHT
TZOFFSETFROM:-0900
TZOFFSETTO:-0800
DTSTART:20070311T020000
RRULE:FREQ=YEARLY;BYMONTH=3;BYDAY=2SU
END:DAYLIGHT
END:VTIMEZONE
BEGIN:VTIMEZONE
TZID:US/Hawaii
BEGIN:STANDARD
TZOFFSETFROM:-1000
TZOFFSETTO:-1000
DTSTART:19701025T020000
END:STANDARD
END:VTIMEZONE
BEGIN:VTIMEZONE
TZID:US/Aleutian
BEGIN:STANDARD
TZOFFSETFROM:-1000
TZOFFSETTO:-1000
DTSTART:19701025T020000
END:STANDARD
END:VTIMEZONE
BEGIN:VTIMEZONE
TZID:US/Samoa
BEGIN:STANDARD
TZOFFSETFROM:-1100
TZOFFSETTO:-1100
DTSTART:19701025T020000
END:STANDARD
END:VTIMEZONE
BEGIN:VEVENT
UID:22890183@www.synergycharteracademy.org#20251006
SEQUENCE:0
CREATED:20250321T200414Z
LAST-MODIFIED:20250321T200414Z
DTSTART;VALUE=DATE:20251006
DURATION:P1D
RRULE:FREQ=DAILY;COUNT=5;WKST=SU
SUMMARY:Fall Break 
CATEGORIES:Events
DESCRIPTION:No School\n<a href=' https://www.synergycharteracademy.org/apps
 /events/22890183/'>Read more</a>
URL:https://www.synergycharteracademy.org/apps/events/22890183/
ORGANIZER;CN="Edlio Calendar":MAILTO:noreply@www.synergycharteracademy.org
DTSTAMP:20260421T151254Z
END:VEVENT
BEGIN:VEVENT
UID:38354742@www.synergycharteracademy.org#20260327
SEQUENCE:1
CREATED:20260325T222645Z
LAST-MODIFIED:20260325T222645Z
DTSTART;VALUE=DATE:20260327
DURATION:P1D
SUMMARY:Farm Workers Day's (School Closed)
CATEGORIES:Events
DESCRIPTION:School Closed\n<a href=' https://www.synergycharteracademy.org/
 apps/events/38354742/'>Read more</a>
URL:https://www.synergycharteracademy.org/apps/events/38354742/
ORGANIZER;CN="Edlio Calendar":MAILTO:noreply@www.synergycharteracademy.org
DTSTAMP:20260421T151254Z
END:VEVENT
BEGIN:VEVENT
UID:22890177@www.synergycharteracademy.org#20250806
SEQUENCE:0
CREATED:20250321T200236Z
LAST-MODIFIED:20250321T200236Z
DTSTART;VALUE=DATE:20250806
DURATION:P1D
SUMMARY:First Day of School 
CATEGORIES:Events
DESCRIPTION: \n<a href=' https://www.synergycharteracademy.org/apps/events/
 22890177/'>Read more</a>
URL:https://www.synergycharteracademy.org/apps/events/22890177/
ORGANIZER;CN="Edlio Calendar":MAILTO:noreply@www.synergycharteracademy.org
DTSTAMP:20260421T151254Z
END:VEVENT
BEGIN:VEVENT
UID:21939269@www.synergycharteracademy.org#20250619
SEQUENCE:0
CREATED:20250219T185227Z
LAST-MODIFIED:20250219T185227Z
DTSTART;VALUE=DATE:20250619
DURATION:P1D
SUMMARY:Juneteenth(School Closed)
CATEGORIES:Events
DESCRIPTION: \n<a href=' https://www.synergycharteracademy.org/apps/events/
 21939269/'>Read more</a>
URL:https://www.synergycharteracademy.org/apps/events/21939269/
ORGANIZER;CN="Edlio Calendar":MAILTO:noreply@www.synergycharteracademy.org
DTSTAMP:20260421T151254Z
END:VEVENT
BEGIN:VEVENT
UID:22890178@www.synergycharteracademy.org#20250901
SEQUENCE:0
CREATED:20250321T200312Z
LAST-MODIFIED:20250321T200312Z
DTSTART;VALUE=DATE:20250901
DURATION:P1D
SUMMARY:Labor Day (No School) 
CATEGORIES:Events
DESCRIPTION: \n<a href=' https://www.synergycharteracademy.org/apps/events/
 22890178/'>Read more</a>
URL:https://www.synergycharteracademy.org/apps/events/22890178/
ORGANIZER;CN="Edlio Calendar":MAILTO:noreply@www.synergycharteracademy.org
DTSTAMP:20260421T151254Z
END:VEVENT
BEGIN:VEVENT
UID:38356613@www.synergycharteracademy.org#20260605
SEQUENCE:0
CREATED:20260325T223511Z
LAST-MODIFIED:20260325T223511Z
DTSTART;VALUE=DATE:20260605
DURATION:P1D
SUMMARY:Last Day Of School
CATEGORIES:Events
URL:https://www.synergycharteracademy.org/apps/events/38356613/
ORGANIZER;CN="Edlio Calendar":MAILTO:noreply@www.synergycharteracademy.org
DTSTAMP:20260421T151254Z
END:VEVENT
BEGIN:VEVENT
UID:21939267@www.synergycharteracademy.org#20250606
SEQUENCE:0
CREATED:20250219T185140Z
LAST-MODIFIED:20250219T185140Z
DTSTART;VALUE=DATE:20250606
DURATION:P1D
SUMMARY:Last Day Of School 
CATEGORIES:Events
DESCRIPTION: \n<a href=' https://www.synergycharteracademy.org/apps/events/
 21939267/'>Read more</a>
URL:https://www.synergycharteracademy.org/apps/events/21939267/
ORGANIZER;CN="Edlio Calendar":MAILTO:noreply@www.synergycharteracademy.org
DTSTAMP:20260421T151254Z
END:VEVENT
BEGIN:VEVENT
UID:21939266@www.synergycharteracademy.org#20250526
SEQUENCE:0
CREATED:20250219T185110Z
LAST-MODIFIED:20250219T185110Z
DTSTART;VALUE=DATE:20250526
DURATION:P1D
SUMMARY:Memorial Day(School Closed) 
CATEGORIES:Events
DESCRIPTION: \n<a href=' https://www.synergycharteracademy.org/apps/events/
 21939266/'>Read more</a>
URL:https://www.synergycharteracademy.org/apps/events/21939266/
ORGANIZER;CN="Edlio Calendar":MAILTO:noreply@www.synergycharteracademy.org
DTSTAMP:20260421T151254Z
END:VEVENT
BEGIN:VEVENT
UID:38356603@www.synergycharteracademy.org#20260525
SEQUENCE:0
CREATED:20260325T223251Z
LAST-MODIFIED:20260325T223251Z
DTSTART;VALUE=DATE:20260525
DURATION:P1D
SUMMARY:Memorial Day(School Closed) 
CATEGORIES:Events
URL:https://www.synergycharteracademy.org/apps/events/38356603/
ORGANIZER;CN="Edlio Calendar":MAILTO:noreply@www.synergycharteracademy.org
DTSTAMP:20260421T151254Z
END:VEVENT
BEGIN:VEVENT
UID:38354746@www.synergycharteracademy.org#20260330
SEQUENCE:0
CREATED:20260325T222356Z
LAST-MODIFIED:20260325T222356Z
DTSTART;VALUE=DATE:20260330
DURATION:P1D
SUMMARY:Spring Break 
CATEGORIES:Events
DESCRIPTION:No School \n<a href=' https://www.synergycharteracademy.org/app
 s/events/38354746/'>Read more</a>
URL:https://www.synergycharteracademy.org/apps/events/38354746/
ORGANIZER;CN="Edlio Calendar":MAILTO:noreply@www.synergycharteracademy.org
DTSTAMP:20260421T151254Z
END:VEVENT
BEGIN:VEVENT
UID:38354747@www.synergycharteracademy.org#20260331
SEQUENCE:0
CREATED:20260325T222416Z
LAST-MODIFIED:20260325T222416Z
DTSTART;VALUE=DATE:20260331
DURATION:P1D
SUMMARY:Spring Break 
CATEGORIES:Events
DESCRIPTION:No School \n<a href=' https://www.synergycharteracademy.org/app
 s/events/38354747/'>Read more</a>
URL:https://www.synergycharteracademy.org/apps/events/38354747/
ORGANIZER;CN="Edlio Calendar":MAILTO:noreply@www.synergycharteracademy.org
DTSTAMP:20260421T151254Z
END:VEVENT
BEGIN:VEVENT
UID:38356504@www.synergycharteracademy.org#20260401
SEQUENCE:0
CREATED:20260325T222442Z
LAST-MODIFIED:20260325T222442Z
DTSTART;VALUE=DATE:20260401
DURATION:P1D
SUMMARY:Spring Break 
CATEGORIES:Events
DESCRIPTION:No School \n<a href=' https://www.synergycharteracademy.org/app
 s/events/38356504/'>Read more</a>
URL:https://www.synergycharteracademy.org/apps/events/38356504/
ORGANIZER;CN="Edlio Calendar":MAILTO:noreply@www.synergycharteracademy.org
DTSTAMP:20260421T151254Z
END:VEVENT
BEGIN:VEVENT
UID:38356505@www.synergycharteracademy.org#20260402
SEQUENCE:0
CREATED:20260325T222502Z
LAST-MODIFIED:20260325T222502Z
DTSTART;VALUE=DATE:20260402
DURATION:P1D
SUMMARY:Spring Break 
CATEGORIES:Events
DESCRIPTION:No School \n<a href=' https://www.synergycharteracademy.org/app
 s/events/38356505/'>Read more</a>
URL:https://www.synergycharteracademy.org/apps/events/38356505/
ORGANIZER;CN="Edlio Calendar":MAILTO:noreply@www.synergycharteracademy.org
DTSTAMP:20260421T151254Z
END:VEVENT
BEGIN:VEVENT
UID:38356506@www.synergycharteracademy.org#20260403
SEQUENCE:1
CREATED:20260325T222658Z
LAST-MODIFIED:20260325T222658Z
DTSTART;VALUE=DATE:20260403
DURATION:P1D
SUMMARY:Spring Break 
CATEGORIES:Events
DESCRIPTION:No School\n<a href=' https://www.synergycharteracademy.org/apps
 /events/38356506/'>Read more</a>
URL:https://www.synergycharteracademy.org/apps/events/38356506/
ORGANIZER;CN="Edlio Calendar":MAILTO:noreply@www.synergycharteracademy.org
DTSTAMP:20260421T151254Z
END:VEVENT
BEGIN:VEVENT
UID:22890214@www.synergycharteracademy.org#20251124
SEQUENCE:2
CREATED:20250321T201419Z
LAST-MODIFIED:20250321T201419Z
DTSTART;VALUE=DATE:20251124
DURATION:P1D
RRULE:FREQ=DAILY;COUNT=5;WKST=SU
SUMMARY:Thanksgiving Break 
CATEGORIES:Events
DESCRIPTION:No School&nbsp\;  \n<a href=' https://www.synergycharteracademy
 .org/apps/events/22890214/'>Read more</a>
URL:https://www.synergycharteracademy.org/apps/events/22890214/
ORGANIZER;CN="Edlio Calendar":MAILTO:noreply@www.synergycharteracademy.org
DTSTAMP:20260421T151254Z
END:VEVENT
BEGIN:VEVENT
UID:22890204@www.synergycharteracademy.org#20251111
SEQUENCE:0
CREATED:20250321T200457Z
LAST-MODIFIED:20250321T200457Z
DTSTART;VALUE=DATE:20251111
DURATION:P1D
SUMMARY:Veterans Day (No School) 
CATEGORIES:Events
DESCRIPTION: \n<a href=' https://www.synergycharteracademy.org/apps/events/
 22890204/'>Read more</a>
URL:https://www.synergycharteracademy.org/apps/events/22890204/
ORGANIZER;CN="Edlio Calendar":MAILTO:noreply@www.synergycharteracademy.org
DTSTAMP:20260421T151254Z
END:VEVENT
BEGIN:VEVENT
UID:22890251@www.synergycharteracademy.org#20251215
SEQUENCE:0
CREATED:20250321T201545Z
LAST-MODIFIED:20250321T201545Z
DTSTART;VALUE=DATE:20251215
DURATION:P1D
RRULE:FREQ=DAILY;COUNT=19;WKST=SU
SUMMARY:Winter Break 
CATEGORIES:Events
DESCRIPTION:No School&nbsp\;\n<a href=' https://www.synergycharteracademy.o
 rg/apps/events/22890251/'>Read more</a>
URL:https://www.synergycharteracademy.org/apps/events/22890251/
ORGANIZER;CN="Edlio Calendar":MAILTO:noreply@www.synergycharteracademy.org
DTSTAMP:20260421T151254Z
END:VEVENT
END:VCALENDAR
